BEGIN:VCALENDAR
VERSION:2.0
PRODID:-//ChamberMaster//Event Calendar 2.0//EN
METHOD:PUBLISH
X-PUBLISHED-TTL:P3D
REFRESH-INTERVAL:P3D
CALSCALE:GREGORIAN
BEGIN:VEVENT
DTSTART:20131203T230000Z
DTEND:20131204T020000Z
X-MICROSOFT-CDO-ALLDAYEVENT:FALSE
SUMMARY:Holiday Member Showcase2013
DESCRIPTION:
X-ALT-DESC;FMTTYPE=text/html:
LOCATION:Business Visitor and Event Center 275 S. Kansas
UID:e.1244.4792
SEQUENCE:3
DTSTAMP:20260424T231118Z
URL:https://business.weslaco.com/events/details/holiday-member-showcase2013-12-03-2013-4792
END:VEVENT

END:VCALENDAR
