BEGIN:VCALENDAR
VERSION:2.0
PRODID:-//ChamberMaster//Event Calendar 2.0//EN
METHOD:PUBLISH
X-PUBLISHED-TTL:P3D
REFRESH-INTERVAL:P3D
CALSCALE:GREGORIAN
BEGIN:VEVENT
DTSTART:20151211T210000Z
DTEND:20151212T000000Z
X-MICROSOFT-CDO-ALLDAYEVENT:FALSE
SUMMARY:Holiday Open House Tamalada
DESCRIPTION:City of Weslaco\, Weslaco EDC and Weslaco Chamber of Commerce invite you to a Holiday Open House Tamalada! Stop by the Visitors Center before the Christmas Tree Lighting for delicious tamales.
X-ALT-DESC;FMTTYPE=text/html:City of Weslaco\, Weslaco EDC and Weslaco Chamber of Commerce invite you to a Holiday Open House Tamalada! Stop by the Visitors Center before the Christmas Tree Lighting for delicious tamales.&nbsp\;
LOCATION:275 S. Kansas
UID:e.1244.9067
SEQUENCE:3
DTSTAMP:20260423T070820Z
URL:https://business.weslaco.com/events/details/holiday-open-house-tamalada-12-11-2015-9067
END:VEVENT

END:VCALENDAR
