BEGIN:VCALENDAR
VERSION:2.0
PRODID:-//ChamberMaster//Event Calendar 2.0//EN
METHOD:PUBLISH
X-PUBLISHED-TTL:P3D
REFRESH-INTERVAL:P3D
CALSCALE:GREGORIAN
BEGIN:VEVENT
DTSTART:20190413T210000Z
DTEND:20190414T000000Z
X-MICROSOFT-CDO-ALLDAYEVENT:FALSE
SUMMARY:Holy Family Services Annual Birthday Party
DESCRIPTION:Holy Family Services invites you to join the annual Holy Family birthday party celebrating all Holy Family babies and families\, both past and present! This long-standing tradition is FREE and fun for the whole family! There will be bounce houses\, animals\, games\, prizes\, food\, drinks\, pi atas\, and of course birthday cake for everyone! Come and join us!\n\nThere will be a BBQ Plate Sale from 11 am to 2 pm\, corner of Mile 11 and Texas (just south of the Birthing Center)
X-ALT-DESC;FMTTYPE=text/html:<p>Holy Family Services invites you to join the annual Holy Family birthday party celebrating all Holy Family babies and families\, both past and present! This long-standing tradition is FREE and fun for the whole family! There will be bounce houses\, animals\, games\, prizes\, food\, drinks\, pi&ntilde\;atas\, and of course birthday cake for everyone! Come and join us!</p>\n\n<p>There will be a BBQ Plate Sale from 11 am to 2 pm\, corner of Mile 11 and Texas (just south of the Birthing Center)</p>\n
LOCATION:5819 N FM 88 Weslaco\, TX
UID:e.1244.18056
SEQUENCE:3
DTSTAMP:20260420T130822Z
URL:https://business.weslaco.com/events/details/holy-family-services-annual-birthday-party-18056
END:VEVENT

END:VCALENDAR
