BEGIN:VCALENDAR
VERSION:2.0
PRODID:-//ChamberMaster//Event Calendar 2.0//EN
METHOD:PUBLISH
X-PUBLISHED-TTL:P3D
REFRESH-INTERVAL:P3D
CALSCALE:GREGORIAN
BEGIN:VEVENT
DTSTART:20181111T000000Z
DTEND:20181111T040000Z
X-MICROSOFT-CDO-ALLDAYEVENT:FALSE
SUMMARY:Holy Family Services Grand Opening Gala
DESCRIPTION:Holy Family Services celebrates "An Evening to Be Grateful"\, which includes dinner\, beverage\, dessert\, and live music. Cocktail attire. Tickets are available for $75/person.
X-ALT-DESC;FMTTYPE=text/html:Holy Family Services celebrates &quot\;An Evening to Be Grateful&quot\;\, which includes dinner\, beverage\, dessert\, and live music. Cocktail attire. Tickets are available for $75/person.&nbsp\;<br />\n&nbsp\;<br />\n&nbsp\;
LOCATION:Holy Family Services 5819 N. FM 88 Weslaco\, TX
UID:e.1244.17003
SEQUENCE:3
DTSTAMP:20260420T214654Z
URL:https://business.weslaco.com/events/details/holy-family-services-grand-opening-gala-17003
END:VEVENT

END:VCALENDAR
