BEGIN:VCALENDAR
VERSION:2.0
PRODID:-//ChamberMaster//Event Calendar 2.0//EN
METHOD:PUBLISH
X-PUBLISHED-TTL:P3D
REFRESH-INTERVAL:P3D
CALSCALE:GREGORIAN
BEGIN:VEVENT
DTSTART:20210305T180000Z
DTEND:20210305T190000Z
X-MICROSOFT-CDO-ALLDAYEVENT:FALSE
SUMMARY:Hotelier Quarterly Meeting: Hotel Law
DESCRIPTION:
X-ALT-DESC;FMTTYPE=text/html:
LOCATION:
UID:e.1244.19554
SEQUENCE:3
DTSTAMP:20260422T152149Z
URL:https://business.weslaco.com/events/details/hotelier-quarterly-meeting-hotel-law-19554
END:VEVENT

END:VCALENDAR
