BEGIN:VCALENDAR
VERSION:2.0
PRODID:-//ChamberMaster//Event Calendar 2.0//EN
METHOD:PUBLISH
X-PUBLISHED-TTL:P3D
REFRESH-INTERVAL:P3D
CALSCALE:GREGORIAN
BEGIN:VEVENT
DTSTART:20180619T133000Z
DTEND:20180619T153000Z
X-MICROSOFT-CDO-ALLDAYEVENT:FALSE
SUMMARY:How to Sell Without Selling: A Seminar
DESCRIPTION:Join us for this affordable sales training seminar for anyone looking to sharpen their skills. Featured trainer Chis'mere Mallard will present:\n\n\n\n1. Psychology of sales\n\n2. Mindset of customer\n\n3. Mindset of the sales representative\n\n\n\nCall 968-2102 for more information or to RSVP.
X-ALT-DESC;FMTTYPE=text/html:<span>Join us for this affordable sales training seminar for anyone looking to sharpen their skills. Featured trainer Chis&#39\;mere Mallard will present:<br />\n<br />\n1. Psychology of sales<br />\n2. Mindset of customer<br />\n3. Mindset of the sales representative<br />\n<br />\nCall 968-2102 for more information or to RSVP.</span>
LOCATION:Weslaco Business Visitor & Event Center 275 S. Kansas
UID:e.1244.16915
SEQUENCE:3
DTSTAMP:20260421T055942Z
URL:https://business.weslaco.com/events/details/how-to-sell-without-selling-a-seminar-16915
END:VEVENT

END:VCALENDAR
