BEGIN:VCALENDAR
VERSION:2.0
PRODID:-//ChamberMaster//Event Calendar 2.0//EN
METHOD:PUBLISH
X-PUBLISHED-TTL:P3D
REFRESH-INTERVAL:P3D
CALSCALE:GREGORIAN
BEGIN:VEVENT
DTSTART:20160715T150000Z
DTEND:20160715T160000Z
X-MICROSOFT-CDO-ALLDAYEVENT:FALSE
SUMMARY:Hug a Cop and Shake Their Hand at Weslaco PD
DESCRIPTION:The Weslaco Mid Valley Lions and the Weslaco PD bring you Hug a Cop and Shake their Hand! Inside the briefing room at the Weslaco Police Dept\, stop by and show your appreciation for your local police.
X-ALT-DESC;FMTTYPE=text/html:The Weslaco Mid Valley Lions and the Weslaco PD bring you Hug a Cop and Shake their Hand! Inside the briefing room at the Weslaco Police Dept\, stop by and show your appreciation for your local police.&nbsp\;
LOCATION:901 N. Airport Weslaco\, TX
UID:e.1244.10990
SEQUENCE:3
DTSTAMP:20260422T200859Z
URL:https://business.weslaco.com/events/details/hug-a-cop-and-shake-their-hand-at-weslaco-pd-07-15-2016-10990
END:VEVENT

END:VCALENDAR
