BEGIN:VCALENDAR
VERSION:2.0
PRODID:-//ChamberMaster//Event Calendar 2.0//EN
METHOD:PUBLISH
X-PUBLISHED-TTL:P3D
REFRESH-INTERVAL:P3D
CALSCALE:GREGORIAN
BEGIN:VEVENT
DTSTART:20170422T120000Z
DTEND:20170422T160000Z
X-MICROSOFT-CDO-ALLDAYEVENT:FALSE
SUMMARY:Hurry to La Jarra 5K
DESCRIPTION:First Annual 1 Mile Family Fun Run and Earth Day 5K at La Jarra Ranch.\n\n \n\nWarm up with Zumba at 6:45 a.m.\, then the 5K begins at 7:00 a.m.  Right after that\, the 1 mile Family Fun Run/Walk begins at 8:30 a.m\, followed by Yoga 10:00 a.m. Don't forget your yoga mat!\n\n \n\nAll 5K finishers will receive a beautiful custom medal. Trophies for male & female first\, second & third place runners and for male & female first & second place runners over the age of 55 years young.  *This is not a timed event.\n\n \n\nAll participants in the 5K and in the 1-mile walk/run will have the opportunity to plant a native butterfly pollinator plant in the La Jarra Ranch Runners' Garden or take home to start their own Butterfly Garden.\n\n \n\nT Shirts are available for $5 online only.\n\n \n\nAll proceeds will benefit the Raymondville Chamber of Commerce and the North American Wildlife Photography Hall of Fame wetland conservation.\n\n \n\n*This is not a timed event.
X-ALT-DESC;FMTTYPE=text/html:First Annual 1 Mile Family Fun Run and Earth Day 5K at La Jarra Ranch.<br />\n&nbsp\;<br />\nWarm up with Zumba at 6:45 a.m.\, then the 5K begins at 7:00 a.m.&nbsp\; Right after that\, the 1 mile Family Fun Run/Walk begins at 8:30 a.m\, followed by Yoga 10:00 a.m. Don&#39\;t forget your yoga mat!<br />\n&nbsp\;<br />\nAll 5K finishers will receive a beautiful custom medal. Trophies for male &amp\; female first\, second &amp\; third place runners and for male &amp\; female first &amp\; second place runners over the age of 55 years young.&nbsp\; *This is not a timed event.<br />\n&nbsp\;<br />\nAll participants in the 5K and in the 1-mile walk/run will have the opportunity to plant a native butterfly pollinator plant in the La Jarra Ranch Runners&#39\; Garden or take home to start their own Butterfly Garden.<br />\n&nbsp\;<br />\nT Shirts are available for $5 online only.<br />\n&nbsp\;<br />\nAll proceeds will benefit the Raymondville Chamber of Commerce and the North American Wildlife Photography Hall of Fame wetland conservation.<br />\n&nbsp\;<br />\n*This is not a timed event.<br />\n&nbsp\;
LOCATION:12601 Las Majadas Ranch Road\, Raymondville\, TX 78580
UID:e.1244.11967
SEQUENCE:3
DTSTAMP:20260422T065025Z
URL:https://business.weslaco.com/events/details/hurry-to-la-jarra-5k-11967
END:VEVENT

END:VCALENDAR
