BEGIN:VCALENDAR
VERSION:2.0
PRODID:-//ChamberMaster//Event Calendar 2.0//EN
METHOD:PUBLISH
X-PUBLISHED-TTL:P3D
REFRESH-INTERVAL:P3D
CALSCALE:GREGORIAN
BEGIN:VEVENT
DTSTART:20170518T230000Z
DTEND:20170519T010000Z
X-MICROSOFT-CDO-ALLDAYEVENT:FALSE
SUMMARY:Hynes Event Center Open House & Launch Party
DESCRIPTION:The Hynes Event Center is now available to rent for private events like weddings\, quinceaneras\, etc. Stop by and tour the venue and meet some of the finest vendors in the Rio Grande Valley.  Enjoy bubbly and hors d'oeuvres\, door prizes\, and a chance to win a $2\,700 venue rental.
X-ALT-DESC;FMTTYPE=text/html:The Hynes Event Center is now available to rent for private events like weddings\, quinceaneras\, etc. Stop by and tour the venue and meet some of the finest vendors in the Rio Grande Valley.&nbsp\; Enjoy bubbly and hors d&#39\;oeuvres\, door prizes\, and a chance to win a $2\,700 venue rental.
LOCATION:Hynes Event Center at Llano Grande Country Club & Resort 2215 E. West Blvd. Mercedes\, TX 78570
UID:e.1244.12021
SEQUENCE:3
DTSTAMP:20260422T051103Z
URL:https://business.weslaco.com/events/details/hynes-event-center-open-house-launch-party-12021
END:VEVENT

END:VCALENDAR
