BEGIN:VCALENDAR
VERSION:2.0
PRODID:-//ChamberMaster//Event Calendar 2.0//EN
METHOD:PUBLISH
X-PUBLISHED-TTL:P3D
REFRESH-INTERVAL:P3D
CALSCALE:GREGORIAN
BEGIN:VEVENT
DTSTART:20140129T230000Z
DTEND:20140130T010000Z
X-MICROSOFT-CDO-ALLDAYEVENT:FALSE
SUMMARY:IBC Bank Grand Opening Mixer and Ribbon Cutting
DESCRIPTION:Celebrating the new IBC Bank in Downtown Weslaco. Ribbon cutting at 5 pm\, reception immediately following.
X-ALT-DESC;FMTTYPE=text/html:Celebrating the new IBC Bank in Downtown Weslaco. Ribbon cutting at 5 pm\, reception immediately following.<br />\n<br />\n
LOCATION:
UID:e.1244.5871
SEQUENCE:3
DTSTAMP:20260424T214554Z
URL:https://business.weslaco.com/events/details/ibc-bank-grand-opening-mixer-and-ribbon-cutting-01-29-2014-5871
END:VEVENT

END:VCALENDAR
