BEGIN:VCALENDAR
VERSION:2.0
PRODID:-//ChamberMaster//Event Calendar 2.0//EN
METHOD:PUBLISH
X-PUBLISHED-TTL:P3D
REFRESH-INTERVAL:P3D
CALSCALE:GREGORIAN
BEGIN:VEVENT
DTSTART:20230211T143000Z
DTEND:20230211T180000Z
X-MICROSOFT-CDO-ALLDAYEVENT:FALSE
SUMMARY:IDEA 5K & Healthy Living Expo
DESCRIPTION:IDEA's Healthy Kids Here Program recognizes that the roots of academic success for our students run far deeper than classroom and virtual learning alone. As part of our mission to become the Healthiest District in America\, IDEA hosts an annual 5K Run/Walk in each of our large regions to engage our students\, families\, and the community in a fun\, educational opportunity to be active. Paid participants who pre-register will get an official IDEA 5K shirt! All participants will receive an official IDEA 5K medal! IDEA STUDENTS Each campus is encouraged to show their campus spirit and order & design shirts for their student runners on their own. RACE DAY SCHEDULE 8:00 A.M. - Healthy Living Expo and Race Day Registration 8:30 A.M. - 1 Mile Fun Run 9:00 A.M. - 5K Start 10:00 A.M. - Awards
X-ALT-DESC;FMTTYPE=text/html:IDEA&rsquo\;s Healthy Kids Here Program recognizes that the roots of academic success for our students run far deeper than classroom and virtual learning alone. As part of our mission to become the Healthiest District in America\, IDEA hosts an annual 5K Run/Walk in each of our large regions to engage our students\, families\, and the community in a fun\, educational opportunity to be active. Paid participants who pre-register will get an official IDEA 5K shirt! All participants will receive an official IDEA 5K medal! IDEA STUDENTS Each campus is encouraged to show their campus spirit and order &amp\; design shirts for their student runners on their own. RACE DAY SCHEDULE 8:00 A.M. - Healthy Living Expo and Race Day Registration 8:30 A.M. - 1 Mile Fun Run 9:00 A.M. - 5K Start 10:00 A.M. - Awards
LOCATION:Harlingen Sports Complex 3139 Wilson Rd. Harlingen\, TX 78552
UID:e.1244.21787
SEQUENCE:3
DTSTAMP:20260421T000201Z
URL:https://business.weslaco.com/events/details/idea-5k-healthy-living-expo-21787
END:VEVENT

END:VCALENDAR
