BEGIN:VCALENDAR
VERSION:2.0
PRODID:-//ChamberMaster//Event Calendar 2.0//EN
METHOD:PUBLISH
X-PUBLISHED-TTL:P3D
REFRESH-INTERVAL:P3D
CALSCALE:GREGORIAN
BEGIN:VEVENT
DTSTART;VALUE=DATE:20221020
DTEND;VALUE=DATE:20221021
TRANSP:TRANSPARENT
X-MICROSOFT-CDO-ALLDAYEVENT:TRUE
SUMMARY:IDEA Dinner & Auction Scholarship Gala "Reach for the Stars"
DESCRIPTION:Get ready! Join IDEA Public Schools for its first Dinner & Auction Scholarship Gala "Reach for the Stars" on October 20\, 2022. RSVP HERE: https://e.givesmart.com/events/s0x/ All funds raised will support scholarship funds for IDEA seniors and alumni on their journey to and through college. You don't want to miss this amazing night filled with inspiring stories\, a remarkable silent auction\, and an exquisite dinner served by Delgado Collective!
X-ALT-DESC;FMTTYPE=text/html:<p><span style="color:rgb(5\, 5\, 5)\; font-family:system-ui\,-apple-system\,blinkmacsystemfont\,.sfnstext-regular\,sans-serif\; font-size:15px">Get ready! Join IDEA Public Schools for its first Dinner &amp\; Auction Scholarship Gala &quot\;Reach for the Stars&quot\; on October 20\, 2022. RSVP HERE: </span><span style="color:rgb(5\, 5\, 5)\; font-family:system-ui\,-apple-system\,blinkmacsystemfont\,.sfnstext-regular\,sans-serif\; font-size:15px"><a class="oajrlxb2 g5ia77u1 qu0x051f esr5mh6w e9989ue4 r7d6kgcz rq0escxv nhd2j8a9 nc684nl6 p7hjln8o kvgmc6g5 cxmmr5t8 oygrvhab hcukyx3x jb3vyjys rz4wbd8a qt6c0cv9 a8nywdso i1ao9s8h esuyzwwr f1sip0of lzcic4wl gpro0wi8 py34i1dx" href="https://e.givesmart.com/events/s0x/?fbclid=IwAR06wkw-SYqQLfLsfw06ZdyCsEuIHfiRxH8SPC4hhUaOEI3WF-DY4RqtW8o" rel="nofollow noopener" style="color: var(--blue-link)\; cursor: pointer\; text-decoration: none\; outline: none\; list-style: none\; border: 0px\; padding: 0px\; margin: 0px\; touch-action: manipulation\; background-color: transparent\; text-align: inherit\; display: inline\; box-sizing: border-box\; font-family: inherit\;" tabindex="0" target="_blank">https://e.givesmart.com/events/s0x/</a></span><span style="color:rgb(5\, 5\, 5)\; font-family:system-ui\,-apple-system\,blinkmacsystemfont\,.sfnstext-regular\,sans-serif\; font-size:15px"> All funds raised will support scholarship funds for IDEA seniors and alumni on their journey to and through college. You don&#39\;t want to miss this amazing night filled with inspiring stories\, a remarkable silent auction\, and an exquisite dinner served by Delgado Collective!</span></p>\n
LOCATION:Mission Event Center\, Mission\, TX
UID:e.1244.21743
SEQUENCE:3
DTSTAMP:20260421T073228Z
URL:https://business.weslaco.com/events/details/idea-dinner-auction-scholarship-gala-reach-for-the-stars-21743
END:VEVENT

END:VCALENDAR
