BEGIN:VCALENDAR
VERSION:2.0
PRODID:-//ChamberMaster//Event Calendar 2.0//EN
METHOD:PUBLISH
X-PUBLISHED-TTL:P3D
REFRESH-INTERVAL:P3D
CALSCALE:GREGORIAN
BEGIN:VEVENT
DTSTART:20181115T233000Z
DTEND:20181116T013000Z
X-MICROSOFT-CDO-ALLDAYEVENT:FALSE
SUMMARY:IDEA HQ Flip the Switch Cermony
DESCRIPTION:IDEA Headquarters is celebrating their 2nd Anniversary at their new location on Thursday\, November 15! In addition\, they're celebrating their brand new solar panels with a Flip the Switch Ceremony. These panels were made possible through a grant from the Green Mountain Energy Sun Club. 5:30 pm - 7:30 pm. RSVP to rose.marques@ideapublicschools.org.
X-ALT-DESC;FMTTYPE=text/html:IDEA Headquarters is celebrating their 2nd Anniversary at their new location on Thursday\, November 15! In addition\, they&#39\;re celebrating their brand new solar panels with a Flip the Switch Ceremony. These panels were made possible through a grant from the Green Mountain Energy Sun Club. 5:30 pm - 7:30 pm. RSVP to rose.marques@ideapublicschools.org.
LOCATION:IDEA Headquarters 2115 W. Pike Blvd\, Weslaco
UID:e.1244.17024
SEQUENCE:3
DTSTAMP:20260420T212216Z
URL:https://business.weslaco.com/events/details/idea-hq-flip-the-switch-cermony-17024
END:VEVENT

END:VCALENDAR
