BEGIN:VCALENDAR
VERSION:2.0
PRODID:-//ChamberMaster//Event Calendar 2.0//EN
METHOD:PUBLISH
X-PUBLISHED-TTL:P3D
REFRESH-INTERVAL:P3D
CALSCALE:GREGORIAN
BEGIN:VEVENT
DTSTART:20200126T030000Z
DTEND:20200126T043000Z
X-MICROSOFT-CDO-ALLDAYEVENT:FALSE
SUMMARY:Improv After Dark
DESCRIPTION:Improvisation\, or improv\, is a form of live theatre similar in style to "Whose Line is it Anyway\," Improv at The Tower is a high octane comedy show featuring ITheatre's actors performing a series of games and scenes all based on audience suggestions. The audience picks the games\, helps us call the fouls\, gets to join us on stage\, Doors open 6:30\, show starts 7:00 pm. It's a fast\, hysterical\, unique and highly interactive show and has been proven to be the most fun allowed by Texas law. \n\n\n\n*9 pm show is suggested for adults only*
X-ALT-DESC;FMTTYPE=text/html:<span style="color: rgb(29\, 33\, 41)\; font-family: Helvetica\, Arial\, sans-serif\; font-size: 14px\; white-space: pre-wrap\;">Improvisation\, or improv\, is a form of live theatre similar in style to &ldquo\;Whose Line is it Anyway\,&rdquo\; Improv at The Tower is a high octane comedy show featuring ITheatre&#39\;s actors performing a series of games and scenes all based on audience suggestions. </span><span style="color: rgb(29\, 33\, 41)\; font-family: Helvetica\, Arial\, sans-serif\; font-size: 14px\; white-space: pre-wrap\;">The audience picks the games\, helps us call the fouls\, gets to join us on stage\, </span><span style="color: rgb(29\, 33\, 41)\; font-family: Helvetica\, Arial\, sans-serif\; font-size: 14px\; white-space: pre-wrap\;">Doors open 6:30\, show starts 7:00 pm. </span><span style="color: rgb(29\, 33\, 41)\; font-family: Helvetica\, Arial\, sans-serif\; font-size: 14px\; white-space: pre-wrap\;">It&rsquo\;s a fast\, hysterical\, unique and highly interactive show and has been proven to be the most fun allowed by Texas law.&#8203\;<br />\n<br />\n*9 pm show is suggested for adults only*</span>
LOCATION:Tower Theater 120 S. Kansas
UID:e.1244.19292
SEQUENCE:3
DTSTAMP:20260419T214845Z
URL:https://business.weslaco.com/events/details/improv-after-dark-01-25-2020-19292
END:VEVENT

END:VCALENDAR
