BEGIN:VCALENDAR
VERSION:2.0
PRODID:-//ChamberMaster//Event Calendar 2.0//EN
METHOD:PUBLISH
X-PUBLISHED-TTL:P3D
REFRESH-INTERVAL:P3D
CALSCALE:GREGORIAN
BEGIN:VEVENT
DTSTART:20190302T003000Z
DTEND:20190302T030000Z
X-MICROSOFT-CDO-ALLDAYEVENT:FALSE
SUMMARY:Improv & Tacos at The Tower
DESCRIPTION:Improvisation\, or improv\, is a form of live theatre similar in style to "Whose Line is it Anyway\," Improv at The Tower is a high octane comedy show featuring ITheatre's actors performing a series of games and scenes all based on audience suggestions.\n\nThe audience picks the games\, helps us call the fouls\, gets to join us on stage ..........and it's CLEAN!\n\nIt's a fast\, hysterical\, unique and highly interactive show and has been proven to be the most fun allowed by Texas law. \n\n\n\nFun starts at 6:30 as we enjoy tacos under the Tower followed by the show.\n\n\n\nYour ticket includes taco\, drink and an amazing fun show.\n\n \n\n VIP Preferred Seating Tickets & General Admission Tickets available below.
X-ALT-DESC;FMTTYPE=text/html:<span>Improvisation\, or improv\, is a form of live theatre similar in style to &ldquo\;Whose Line is it Anyway\,&rdquo\; Improv at The Tower is a high octane comedy show featuring ITheatre&#39\;s actors performing a series of games and scenes all based on audience suggestions.<br />\nThe audience picks the games\, helps us call the fouls\, gets to join us on stage ..........and it&rsquo\;s CLEAN!<br />\nIt&rsquo\;s a fast\, hysterical\, unique and highly interactive show and has been proven to be the most fun allowed by Texas law.&#8203\;<br />\n<br />\nFun starts at 6:30 as we enjoy tacos under the Tower followed by the show.<br />\n<br />\nYour ticket includes taco\, drink and an amazing fun show.<br />\n&#8203\;<br />\n&#8203\;VIP Preferred Seating Tickets &amp\; General Admission Tickets available below.</span>
LOCATION:iTheater Tower 120 S. Kansas Ave\, Weslaco TX
UID:e.1244.17104
SEQUENCE:3
DTSTAMP:20260420T143923Z
URL:https://business.weslaco.com/events/details/improv-tacos-at-the-tower-17104
END:VEVENT

END:VCALENDAR
