BEGIN:VCALENDAR
VERSION:2.0
PRODID:-//ChamberMaster//Event Calendar 2.0//EN
METHOD:PUBLISH
X-PUBLISHED-TTL:P3D
REFRESH-INTERVAL:P3D
CALSCALE:GREGORIAN
BEGIN:VEVENT
DTSTART:20141122T160000Z
DTEND:20141122T170000Z
X-MICROSOFT-CDO-ALLDAYEVENT:FALSE
SUMMARY:Incredible Edibles of South Texas by Esteban Bravo
DESCRIPTION:Enjoy coffee and pastries while learning which plants of South Texas are edible.
X-ALT-DESC;FMTTYPE=text/html:Enjoy coffee and pastries while learning which plants of South Texas are edible.
LOCATION:Valley Nature Center 301 South Border Ave. Weslaco
UID:e.1244.5985
SEQUENCE:3
DTSTAMP:20260424T034325Z
URL:https://business.weslaco.com/events/details/incredible-edibles-of-south-texas-by-esteban-bravo-11-22-2014-5985
END:VEVENT

END:VCALENDAR
