BEGIN:VCALENDAR
VERSION:2.0
PRODID:-//ChamberMaster//Event Calendar 2.0//EN
METHOD:PUBLISH
X-PUBLISHED-TTL:P3D
REFRESH-INTERVAL:P3D
CALSCALE:GREGORIAN
BEGIN:VEVENT
DTSTART:20170314T150000Z
DTEND:20170314T170000Z
X-MICROSOFT-CDO-ALLDAYEVENT:FALSE
SUMMARY:Incredible Edibles of South Texas by Esteban Bravo
DESCRIPTION:Esteban "Steve" Bravo has been gathering and preparing native edible plants for more than thirty years. As a 20+ year teacher\, he has sponsored educational  eld trips to teach his students about the ecosystems of South Texas. Over the years he realized that many people had little to no knowledge of native edible plants and thier usefullness. Esteban started recording informtion on native plants into portfolios that he distributed to local wildlife entities in South Texas.\n\n \n\nHis book\, 'Incredible Edibles' is the culmination of his years of experience and time spent in the field. Incredibe Edibles works as a field-guide in this class to help identify native plants and learn how they can be useful to you and your family. This is a FREE class you don't want to miss!\n\n \n\nIf you are interested in this class please contact Frontera:\n\nPhone: (956) 968-3275\n\nEmail: fronteraaudubon@gmail.com
X-ALT-DESC;FMTTYPE=text/html:<span style="font-family:arial\;">Esteban &ldquo\;Steve&rdquo\; Bravo has been gathering and preparing native edible plants for more than thirty years. As a 20+ year teacher\, he has sponsored educational &#64257\;eld trips to teach his students about the ecosystems of South Texas. Over the years he realized that many people had little to no knowledge of native edible plants and thier usefullness. Esteban started recording informtion on native plants into portfolios that he distributed to local wildlife entities in South Texas.<br />\n&nbsp\;</span><br />\nHis book\, &#39\;Incredible Edibles&#39\; is the culmination of his years of experience and time spent in the field. Incredibe Edibles works as a field-guide in this class to help identify native plants and learn how they can be useful to you and your family. This is a FREE class you don&#39\;t want to miss!<br />\n&nbsp\;<br />\nIf you are interested in this class please contact Frontera:<br />\nPhone: (956) 968-3275<br />\nEmail: fronteraaudubon@gmail.com
LOCATION:Frontera Audubon 1101 S. Texas
UID:e.1244.11944
SEQUENCE:3
DTSTAMP:20260422T084517Z
URL:https://business.weslaco.com/events/details/incredible-edibles-of-south-texas-by-esteban-bravo-11944
END:VEVENT

END:VCALENDAR
