BEGIN:VCALENDAR
VERSION:2.0
PRODID:-//ChamberMaster//Event Calendar 2.0//EN
METHOD:PUBLISH
X-PUBLISHED-TTL:P3D
REFRESH-INTERVAL:P3D
CALSCALE:GREGORIAN
BEGIN:VEVENT
DTSTART:20190425T230000Z
DTEND:20190426T000000Z
X-MICROSOFT-CDO-ALLDAYEVENT:FALSE
SUMMARY:Information Session on Drainage Improvement Project Plans
DESCRIPTION:The Weslaco Area Chamber of Commerce and the City of Weslaco will host a public information session regarding the drainage improvement projects proposed on the May 07\, 2019 Bond Election. The event will be held on Thursday\, April 25 from 6 pm to 7 pm at Knapp Medical Conference Center located at 1401 E. 8th Street. The conference center is located adjacent to Knapp Medical Center\, on the west side of the hospital and just south of Isaac Rodriguez Park.\n\n \n\nCity staff and Halff Associates Representatives will conduct presentations on the drainage improvement projects. Halff Associates is the consulting engineering firm hired by the City of Weslaco for the storm water improvements plan.  Immediately following the presentations\, city staff will be available to answer questions.
X-ALT-DESC;FMTTYPE=text/html:<span style="font-size:12.0pt\;">The Weslaco Area Chamber of Commerce and the City of Weslaco will host a public information session regarding the drainage improvement projects proposed on the May 07\, 2019 Bond Election. The event will be held on Thursday\, April 25 from 6 pm to 7 pm at Knapp Medical Conference Center located at 1401 E. 8<sup>th</sup> Street. The conference center is located adjacent to Knapp Medical Center\, on the west side of the hospital and just south of Isaac Rodriguez Park.</span><br />\n&nbsp\;<br />\n<span style="font-size:12.0pt\;">City staff and Halff Associates Representatives will conduct presentations on the drainage improvement projects. Halff Associates is the consulting engineering firm hired by the City of Weslaco for the storm water improvements plan.&nbsp\; Immediately following the presentations\, city staff will be available to answer questions. </span><br />\n&nbsp\;
LOCATION:Knapp Conference Center 1801 E. 8th Street Weslaco
UID:e.1244.18133
SEQUENCE:3
DTSTAMP:20260420T130048Z
URL:https://business.weslaco.com/events/details/information-session-on-drainage-improvement-project-plans-18133
END:VEVENT

END:VCALENDAR
