BEGIN:VCALENDAR
VERSION:2.0
PRODID:-//ChamberMaster//Event Calendar 2.0//EN
METHOD:PUBLISH
X-PUBLISHED-TTL:P3D
REFRESH-INTERVAL:P3D
CALSCALE:GREGORIAN
BEGIN:VEVENT
DTSTART:20190816T170000Z
DTEND:20190816T220000Z
X-MICROSOFT-CDO-ALLDAYEVENT:FALSE
SUMMARY:Insta Signs Grand Opening and Ribbon Cutting
DESCRIPTION:Insta Signs will have a customer appreciation event from 12 pm to 5 pm. They'll have giveaways and free food for the first 100 guests! \n\nRibbon cutting will take place at 1 pm.
X-ALT-DESC;FMTTYPE=text/html:<p>Insta Signs will have a customer appreciation event from 12 pm to 5 pm. They&#39\;ll have giveaways and free food for the first 100 guests!&nbsp\;</p>\n\n<p>Ribbon cutting will take place at 1 pm.</p>\n
LOCATION:306 S. Illinois Weslaco
UID:e.1244.18727
SEQUENCE:3
DTSTAMP:20260420T062633Z
URL:https://business.weslaco.com/events/details/insta-signs-grand-opening-and-ribbon-cutting-18727
END:VEVENT

END:VCALENDAR
