BEGIN:VCALENDAR
VERSION:2.0
PRODID:-//ChamberMaster//Event Calendar 2.0//EN
METHOD:PUBLISH
X-PUBLISHED-TTL:P3D
REFRESH-INTERVAL:P3D
CALSCALE:GREGORIAN
BEGIN:VEVENT
DTSTART:20210414T150000Z
DTEND:20210414T170000Z
X-MICROSOFT-CDO-ALLDAYEVENT:FALSE
SUMMARY:Introduction to Employee Handbooks
DESCRIPTION:REGISTRATION LINK:\n\nhttps://utsa.ecenterdirect.com/events/32451\n\nWEBINAR DESCRIPTION:\n\nThis webinar is designed to assist small business owners and managers in updating and communicating personnel policies through their Employee Handbooks.\n\nThe session also reviews regulatory and judicial leanings regarding progressive discipline and workplace violence and harassment\, as well as how to develop a handbook that is effective in managing these obligations and a unique company culture.\n\nWebinar highlights:\n\n  Overview of the elements of an Employee Handbook\n\n  Determining what policies and procedures should be put in place\n\n  Legal considerations to keep in mind when writing policies and procedures\n\n  Implementing policies and procedures through orientation\, communication\, coaching and supervision\n\nThis webinar is presented by Deirdre Pattillo\, SPHR\, SHRM-SCP\, Project Manager for Employer Services at the UTSA SBDC Center for Government Contracting.\n\nThis webinar is hosted by the UTRGV SBDC with promotional support by area resource partners: Brownsville Chamber of Commerce\, Rio Grande City Public Library\, Rio Grande City Greater Chamber of Commerce\, RGV Hispanic Chamber of Commerce\, South Padre Island Chamber of Commerce\, and Weslaco Area Chamber of Commerce and Visitors Center.\n\nRegister at link above. Deadline applies.
X-ALT-DESC;FMTTYPE=text/html:<div class="kvgmc6g5 cxmmr5t8 oygrvhab hcukyx3x c1et5uql" style="overflow-wrap: break-word\; margin: 0px\; font-family: &quot\;Segoe UI Historic&quot\;\, &quot\;Segoe UI&quot\;\, Helvetica\, Arial\, sans-serif\; color: rgb(5\, 5\, 5)\; font-size: 15px\;">REGISTRATION LINK:<br />\n<a class="oajrlxb2 g5ia77u1 qu0x051f esr5mh6w e9989ue4 r7d6kgcz rq0escxv nhd2j8a9 nc684nl6 p7hjln8o kvgmc6g5 cxmmr5t8 oygrvhab hcukyx3x jb3vyjys rz4wbd8a qt6c0cv9 a8nywdso i1ao9s8h esuyzwwr f1sip0of lzcic4wl py34i1dx gpro0wi8" href="https://utsa.ecenterdirect.com/events/32451?fbclid=IwAR1wofiuFKqoSj9B7bMO-xY4pq0Zzmp7KLWGbbsKTyTri5ZFcZf8OWThrV0" rel="nofollow noopener" role="link" style="color: var(--blue-link)\; cursor: pointer\; text-decoration-line: none\; outline: none\; list-style: none\; border-width: 0px\; border-style: initial\; border-color: initial\; padding: 0px\; margin: 0px\; touch-action: manipulation\; background-color: transparent\; text-align: inherit\; display: inline\; -webkit-tap-highlight-color: transparent\; box-sizing: border-box\; font-family: inherit\;" tabindex="0" target="_blank">https://utsa.ecenterdirect.com/events/32451</a></div>\n\n<div class="o9v6fnle cxmmr5t8 oygrvhab hcukyx3x c1et5uql" style="overflow-wrap: break-word\; margin: 0.5em 0px 0px\; font-family: &quot\;Segoe UI Historic&quot\;\, &quot\;Segoe UI&quot\;\, Helvetica\, Arial\, sans-serif\; color: rgb(5\, 5\, 5)\; font-size: 15px\;">WEBINAR DESCRIPTION:<br />\nThis webinar is designed to assist small business owners and managers in updating and communicating personnel policies through their Employee Handbooks.</div>\n\n<div class="o9v6fnle cxmmr5t8 oygrvhab hcukyx3x c1et5uql" style="overflow-wrap: break-word\; margin: 0.5em 0px 0px\; font-family: &quot\;Segoe UI Historic&quot\;\, &quot\;Segoe UI&quot\;\, Helvetica\, Arial\, sans-serif\; color: rgb(5\, 5\, 5)\; font-size: 15px\;">The session also reviews regulatory and judicial leanings regarding progressive discipline and workplace violence and harassment\, as well as how to develop a handbook that is effective in managing these obligations and a unique company culture.</div>\n\n<div class="o9v6fnle cxmmr5t8 oygrvhab hcukyx3x c1et5uql" style="overflow-wrap: break-word\; margin: 0.5em 0px 0px\; font-family: &quot\;Segoe UI Historic&quot\;\, &quot\;Segoe UI&quot\;\, Helvetica\, Arial\, sans-serif\; color: rgb(5\, 5\, 5)\; font-size: 15px\;">Webinar highlights:</div>\n\n<div class="o9v6fnle cxmmr5t8 oygrvhab hcukyx3x c1et5uql" style="overflow-wrap: break-word\; margin: 0.5em 0px 0px\; font-family: &quot\;Segoe UI Historic&quot\;\, &quot\;Segoe UI&quot\;\, Helvetica\, Arial\, sans-serif\; color: rgb(5\, 5\, 5)\; font-size: 15px\;">&bull\; Overview of the elements of an Employee Handbook</div>\n\n<div class="o9v6fnle cxmmr5t8 oygrvhab hcukyx3x c1et5uql" style="overflow-wrap: break-word\; margin: 0.5em 0px 0px\; font-family: &quot\;Segoe UI Historic&quot\;\, &quot\;Segoe UI&quot\;\, Helvetica\, Arial\, sans-serif\; color: rgb(5\, 5\, 5)\; font-size: 15px\;">&bull\; Determining what policies and procedures should be put in place</div>\n\n<div class="o9v6fnle cxmmr5t8 oygrvhab hcukyx3x c1et5uql" style="overflow-wrap: break-word\; margin: 0.5em 0px 0px\; font-family: &quot\;Segoe UI Historic&quot\;\, &quot\;Segoe UI&quot\;\, Helvetica\, Arial\, sans-serif\; color: rgb(5\, 5\, 5)\; font-size: 15px\;">&bull\; Legal considerations to keep in mind when writing policies and procedures</div>\n\n<div class="o9v6fnle cxmmr5t8 oygrvhab hcukyx3x c1et5uql" style="overflow-wrap: break-word\; margin: 0.5em 0px 0px\; font-family: &quot\;Segoe UI Historic&quot\;\, &quot\;Segoe UI&quot\;\, Helvetica\, Arial\, sans-serif\; color: rgb(5\, 5\, 5)\; font-size: 15px\;">&bull\; Implementing policies and procedures through orientation\, communication\, coaching and supervision</div>\n\n<div class="o9v6fnle cxmmr5t8 oygrvhab hcukyx3x c1et5uql" style="overflow-wrap: break-word\; margin: 0.5em 0px 0px\; font-family: &quot\;Segoe UI Historic&quot\;\, &quot\;Segoe UI&quot\;\, Helvetica\, Arial\, sans-serif\; color: rgb(5\, 5\, 5)\; font-size: 15px\;">This webinar is presented by Deirdre Pattillo\, SPHR\, SHRM-SCP\, Project Manager for Employer Services at the UTSA SBDC Center for Government Contracting.</div>\n\n<div class="o9v6fnle cxmmr5t8 oygrvhab hcukyx3x c1et5uql" style="overflow-wrap: break-word\; margin: 0.5em 0px 0px\; font-family: &quot\;Segoe UI Historic&quot\;\, &quot\;Segoe UI&quot\;\, Helvetica\, Arial\, sans-serif\; color: rgb(5\, 5\, 5)\; font-size: 15px\;">This webinar is hosted by the UTRGV SBDC with promotional support by area resource partners: Brownsville Chamber of Commerce\, Rio Grande City Public Library\, Rio Grande City Greater Chamber of Commerce\, RGV Hispanic Chamber of Commerce\, South Padre Island Chamber of Commerce\, and Weslaco Area Chamber of Commerce and Visitors Center.</div>\n\n<div class="o9v6fnle cxmmr5t8 oygrvhab hcukyx3x c1et5uql" style="overflow-wrap: break-word\; margin: 0.5em 0px 0px\; font-family: &quot\;Segoe UI Historic&quot\;\, &quot\;Segoe UI&quot\;\, Helvetica\, Arial\, sans-serif\; color: rgb(5\, 5\, 5)\; font-size: 15px\;">Register at link above. Deadline applies.</div>\n
LOCATION:online event REGISTRATION LINK: https://utsa.ecenterdirect.com/events/32451
UID:e.1244.19559
SEQUENCE:3
DTSTAMP:20260422T134029Z
URL:https://business.weslaco.com/events/details/introduction-to-employee-handbooks-19559
END:VEVENT

END:VCALENDAR
