BEGIN:VCALENDAR
VERSION:2.0
PRODID:-//ChamberMaster//Event Calendar 2.0//EN
METHOD:PUBLISH
X-PUBLISHED-TTL:P3D
REFRESH-INTERVAL:P3D
CALSCALE:GREGORIAN
BEGIN:VEVENT
DTSTART:20181222T010000Z
DTEND:20181222T030000Z
X-MICROSOFT-CDO-ALLDAYEVENT:FALSE
SUMMARY:iTheater and Weslaco HS present Mutually Assured Destruction
DESCRIPTION:ITheatre at The Tower is committed to partnering with the arts community throughout the Rio Grande Valley. We are proud to support our young artists in the Weslaco School District. This production is produced by WHS Theatre Co. and hosted by ITheatre. \n\n\n\nA century's worth of sibling squabbles is boiled down into ten vignettes in this era-hopping tribute to family. Each short play explores a distinct facet of brother and sisterhood\, from fights over who caused mom and dad to split (1985 - I'm Pretty Sure This Is Your Fault) to daring escape plots that only two sisters could pull off (1922 - Very Very Cold Feet). No matter the decade\, audiences will see themselves in these ten distinct shorts about the undeniable bond between siblings through the ages.\n\n\n\nTickets can be purchased at the door.\n\nHouse opens half hour before performance.
X-ALT-DESC;FMTTYPE=text/html:<div class="paragraph" style="text-align:left\;"><span style="color: rgb(128\, 128\, 128)\; font-family: Helvetica\; font-size: 16px\;">ITheatre at The Tower is committed to partnering with the arts community throughout the Rio Grande Valley. We are proud to support our young artists in the Weslaco School District. This production is produced by WHS Theatre Co. and hosted by ITheatre. </span><br />\n<br />\n<font color="#000000" size="4" style="font-family: Helvetica\;">A century&#39\;s worth of sibling squabbles is boiled down into ten vignettes in this era-hopping tribute to family. Each short play explores a distinct facet of brother and sisterhood\, from fights over who caused mom and dad to split (<em>1985 - I&#39\;m Pretty Sure This Is Your Fault</em>) to daring escape plots that only two sisters could pull off (<em>1922 - Very Very Cold Feet</em>). No matter the decade\, audiences will see themselves in these ten distinct shorts about the undeniable bond between siblings through the ages.<br />\n<br />\n<strong>Tickets can be purchased at the door.<br />\nHouse opens half hour before performance.</strong></font></div>\n
LOCATION:Tower Theater 120 S. Kansas
UID:e.1244.17040
SEQUENCE:3
DTSTAMP:20260420T194203Z
URL:https://business.weslaco.com/events/details/itheater-and-weslaco-hs-present-mutually-assured-destruction-17040
END:VEVENT

END:VCALENDAR
