BEGIN:VCALENDAR
VERSION:2.0
PRODID:-//ChamberMaster//Event Calendar 2.0//EN
METHOD:PUBLISH
X-PUBLISHED-TTL:P3D
REFRESH-INTERVAL:P3D
CALSCALE:GREGORIAN
BEGIN:VEVENT
DTSTART:20181215T210000Z
DTEND:20181215T230000Z
X-MICROSOFT-CDO-ALLDAYEVENT:FALSE
SUMMARY:ITheater & FBC Weslaco Present It's Christmas!
DESCRIPTION:Family Fun Event\, with skits\, carols\, and cookies.
X-ALT-DESC;FMTTYPE=text/html:Family Fun Event\, with skits\, carols\, and cookies.
LOCATION:Tower Theater of Weslaco 120 S. Kansas
UID:e.1244.17023
SEQUENCE:3
DTSTAMP:20260420T194259Z
URL:https://business.weslaco.com/events/details/itheater-fbc-weslaco-present-it-s-christmas-17023
END:VEVENT

END:VCALENDAR
