BEGIN:VCALENDAR
VERSION:2.0
PRODID:-//ChamberMaster//Event Calendar 2.0//EN
METHOD:PUBLISH
X-PUBLISHED-TTL:P3D
REFRESH-INTERVAL:P3D
CALSCALE:GREGORIAN
BEGIN:VEVENT
DTSTART:20190720T210000Z
DTEND:20190721T020000Z
X-MICROSOFT-CDO-ALLDAYEVENT:FALSE
SUMMARY:iTheater presents That's Not How I Remember it
DESCRIPTION:ITheatre is proud to present\, That's Not How I Remember It. The ITheatre\, Jr project aims to inspire\, teach and motivate young people to create and perform. Come join us this weekend for a fantastic show.\n\n\n\nMom and Dad love to tell the story of how they met in 1986 -- "pretty much the most awesome year ever." Trouble is\, they remember their courtship completely differently. Mom's version makes their meeting sound like a sappy romantic comedy while Dad somehow makes himself the star of a karate battle. This tubular one-act is a crazy homage to bad 80s movies and the inadequacies of memory.
X-ALT-DESC;FMTTYPE=text/html:<span style="color: rgb(29\, 33\, 41)\; font-family: Helvetica\, Arial\, sans-serif\; font-size: 14px\; white-space: pre-wrap\;">ITheatre is proud to present\, That&#39\;s Not How I Remember It. The ITheatre\, Jr project aims to inspire\, teach and motivate young people to create and perform. Come join us this weekend for a fantastic show.</span><br style="color: rgb(29\, 33\, 41)\; font-family: Helvetica\, Arial\, sans-serif\; font-size: 14px\; white-space: pre-wrap\;" />\n<br style="color: rgb(29\, 33\, 41)\; font-family: Helvetica\, Arial\, sans-serif\; font-size: 14px\; white-space: pre-wrap\;" />\n<span style="color: rgb(29\, 33\, 41)\; font-family: Helvetica\, Arial\, sans-serif\; font-size: 14px\; white-space: pre-wrap\;">Mom and Dad love to tell the story of how they met in 1986 -- &quot\;pretty much the most awesome year ever.&quot\; Trouble is\, they remember their courtship completely differently. Mom&#39\;s version makes their meeting sound like a sappy romantic comedy while Dad somehow makes himself the star of a karate battle. This tubular one-act is a crazy homage to bad 80s movies and the inadequacies of memory.</span>
LOCATION:Tower Theater 120 S. Kansas Weslaco
UID:e.1244.18713
SEQUENCE:3
DTSTAMP:20260420T080113Z
URL:https://business.weslaco.com/events/details/itheater-presents-that-s-not-how-i-remember-it-18713
END:VEVENT

END:VCALENDAR
