BEGIN:VCALENDAR
VERSION:2.0
PRODID:-//ChamberMaster//Event Calendar 2.0//EN
METHOD:PUBLISH
X-PUBLISHED-TTL:P3D
REFRESH-INTERVAL:P3D
CALSCALE:GREGORIAN
BEGIN:VEVENT
DTSTART:20190722T133000Z
DTEND:20190722T173000Z
X-MICROSOFT-CDO-ALLDAYEVENT:FALSE
SUMMARY:iTheater Rising Star Workshop
DESCRIPTION:ITheatre at The Tower is hosting a summer workshop for kids ages 7-14. The Rising Star Theater Workshop will have lessons on acting\, movement\, improv and make up.
X-ALT-DESC;FMTTYPE=text/html:<span style="color: rgb(29\, 33\, 41)\; font-family: Helvetica\, Arial\, sans-serif\; font-size: 14px\;">&nbsp\;</span><a class="profileLink" data-hovercard="/ajax/hovercard/page.php?id=244662342078&amp\;extragetparams=%7B%22__tn__%22%3A%22%2CdK-R-R%22%2C%22eid%22%3A%22ARAFNuhtOF9s_tqUWJ1GA_8b3-cVNDuLSj_tyYbFyjotPI8LtnXw57TqDOmjAnfVylzvYhgjEwUA2HR8%22%2C%22fref%22%3A%22mentions%22%7D" data-hovercard-prefer-more-content-show="1" href="https://www.facebook.com/itheatretx/?__tn__=K-R&amp\;eid=ARAFNuhtOF9s_tqUWJ1GA_8b3-cVNDuLSj_tyYbFyjotPI8LtnXw57TqDOmjAnfVylzvYhgjEwUA2HR8&amp\;fref=mentions&amp\;__xts__%5B0%5D=68.ARBvXLC780ZkWUAaRaKk7IZHyK8iBIUhye3wM9cXyo0v2FtauI30nB25bnvJksH58VIozi3pSDnLPwSN5nPTtAn_d4v6mSb8HiAF854_L3ZErA6VBXCjGKPk0B7d71tlU_jWAOWqVzsQ_N31uQ_2Jn_Rtz8kACx0etDQXyCxQdoJ_BmuVgpQ3Zz9CJ5eHUPUeXtcTNtJ24RVllpGRUmqpcbnmpXyUSz-aD2PRh0C1IasBuvzJNLb0JtkKRXlUSP64OuCkzvxz62CwKfY_GMwmKWu7C_7zx180pBPdREm7I_V2QRO8QtfjOIobkC1-Ecvs3g" style="color: rgb(56\, 88\, 152)\; cursor: pointer\; text-decoration-line: none\; font-family: Helvetica\, Arial\, sans-serif\; font-size: 14px\;">ITheatre at The Tower</a><span style="color: rgb(29\, 33\, 41)\; font-family: Helvetica\, Arial\, sans-serif\; font-size: 14px\;">&nbsp\;is hosting a summer workshop for kids ages 7-14. The Rising Star Theater Workshop will have lessons on acting\, movement\, improv and make up.</span>
LOCATION:Tower Theater 120 S. Kansas
UID:e.1244.18698
SEQUENCE:3
DTSTAMP:20260420T080019Z
URL:https://business.weslaco.com/events/details/itheater-rising-star-workshop-18698
END:VEVENT

END:VCALENDAR
