BEGIN:VCALENDAR
VERSION:2.0
PRODID:-//ChamberMaster//Event Calendar 2.0//EN
METHOD:PUBLISH
X-PUBLISHED-TTL:P3D
REFRESH-INTERVAL:P3D
CALSCALE:GREGORIAN
BEGIN:VEVENT
DTSTART:20171217T000000Z
DTEND:20171217T013000Z
X-MICROSOFT-CDO-ALLDAYEVENT:FALSE
SUMMARY:iTheatre and First Baptist Church Weslaco present IT's Christmas
DESCRIPTION:Join us for this Christmas celebration.  Carols\, cookies and skits for the whole family.  Come sing\, laugh and celebrate Christmas. Proceeds to benefit the Weslaco Warming Station which is a warm place to spend the night for in-need families when temperatures dip below 42 degrees.  FBC Weslaco\, the City of Weslaco and the American Red Cross have partnered to provide this safe space.  Event tickets can be purchased online now for a suggested $10 donation\, paying online will reserve a seat for you.  You may also purchase tickets at the door one hour before the event. Pay what you would like any donation will help this worthy cause.  Seating is very limited. \n\nThis event is 80 minutes.
X-ALT-DESC;FMTTYPE=text/html:<span style="color:black\;"><span style="font-family:helvetica\,sans-serif\;"><span style="font-size:12.0pt\;">Join us for this Christmas celebration.&nbsp\; Carols\, cookies and skits for the whole family.&nbsp\; Come sing\, laugh and celebrate Christmas. Proceeds to benefit the Weslaco Warming Station which is&nbsp\;a warm place to spend the night&nbsp\;for in-need families when temperatures dip below 42 degrees.&nbsp\; FBC Weslaco\, the City of Weslaco and the American Red Cross have partnered to provide this safe space.&nbsp\; Event tickets can be purchased online now for a suggested $10 donation\, paying online will reserve a seat for you.&nbsp\; You may also purchase tickets at the door one hour before the event.&nbsp\;Pay what you would like&nbsp\;any donation will help this worthy cause.&nbsp\; Seating is very limited.&nbsp\;<br />\nThis event is 80 minutes.&nbsp\;</span></span></span>
LOCATION:Tower Theater 120 S. Kansas\, Weslaco
UID:e.1244.14466
SEQUENCE:3
DTSTAMP:20260421T155949Z
URL:https://business.weslaco.com/events/details/itheatre-and-first-baptist-church-weslaco-present-it-s-christmas-14466
END:VEVENT

END:VCALENDAR
