BEGIN:VCALENDAR
VERSION:2.0
PRODID:-//ChamberMaster//Event Calendar 2.0//EN
METHOD:PUBLISH
X-PUBLISHED-TTL:P3D
REFRESH-INTERVAL:P3D
CALSCALE:GREGORIAN
BEGIN:VEVENT
DTSTART:20170715T000000Z
DTEND:20170715T020000Z
X-MICROSOFT-CDO-ALLDAYEVENT:FALSE
SUMMARY:iTheatre of Texas presents Beauty is a Beast
DESCRIPTION:ITheatre is proud to present their Summer Youth Play\,  Beauty IS A Beast at the historic Tower Theater.  This play puts a twist on that famous fairy tale everyone loves\, BUT instead of a big scary beast... the princess is the beast.  Can anyone stop this spoiled princess?\n\n			Summer Theatre at The Tower is a decades long tradition in the Mid-Valley. \n\n			RESERVE YOUR TICKETS NOW!\n\n			www.itheatreoftexas.com or call 956-261-5656.
X-ALT-DESC;FMTTYPE=text/html:<table border="1" cellpadding="0" cellspacing="0" style="width:100.0%\;background:#EBEBEB\;border-collapse:collapse\;border:none\;" width="100%">\n	<tbody>\n		<tr>\n			<td style="border:solid #999999 1.0pt\;padding:13.5pt 13.5pt 13.5pt 13.5pt\;vertical-align:top\;"><span style="color:#606060\;"><span style="font-family:verdana\,sans-serif\;"><span style="font-size:11.5pt\;">ITheatre is proud to present their Summer Youth Play\, &nbsp\;Beauty IS A Beast at the historic Tower Theater. &nbsp\;This play puts a twist on that famous fairy tale everyone loves\, BUT instead of a big scary beast... the princess is the beast. &nbsp\;Can anyone stop this spoiled princess?<br />\n			Summer Theatre at The Tower is a decades long tradition in the Mid-Valley.&nbsp\;</span></span></span><br />\n			<span style="color:#606060\;"><span style="font-family:helvetica\,sans-serif\;"><span style="font-size:11.5pt\;">RESERVE YOUR TICKETS NOW!<br />\n			<a href="http://www.itheatreoftexas.com">www.itheatreoftexas.com</a> or call 956-261-5656.</span></span></span><br />\n			&nbsp\;</td>\n		</tr>\n	</tbody>\n</table>\n
LOCATION:Tower Theater of Weslaco
UID:e.1244.12763
SEQUENCE:3
DTSTAMP:20260422T013813Z
URL:https://business.weslaco.com/events/details/itheatre-of-texas-presents-beauty-is-a-beast-12763
END:VEVENT

END:VCALENDAR
