BEGIN:VCALENDAR
VERSION:2.0
PRODID:-//ChamberMaster//Event Calendar 2.0//EN
METHOD:PUBLISH
X-PUBLISHED-TTL:P3D
REFRESH-INTERVAL:P3D
CALSCALE:GREGORIAN
BEGIN:VEVENT
DTSTART:20180311T010000Z
DTEND:20180311T040000Z
X-MICROSOFT-CDO-ALLDAYEVENT:FALSE
SUMMARY:iTheatre of Texas Presents the comedy: Love Sex and the IRS
DESCRIPTION:
X-ALT-DESC;FMTTYPE=text/html:
LOCATION:Tower Theater of Weslaco 120 S. Kansas
UID:e.1244.15755
SEQUENCE:3
DTSTAMP:20260421T111426Z
URL:https://business.weslaco.com/events/details/itheatre-of-texas-presents-the-comedy-love-sex-and-the-irs-03-10-2018-15755
END:VEVENT

END:VCALENDAR
