BEGIN:VCALENDAR
VERSION:2.0
PRODID:-//ChamberMaster//Event Calendar 2.0//EN
METHOD:PUBLISH
X-PUBLISHED-TTL:P3D
REFRESH-INTERVAL:P3D
CALSCALE:GREGORIAN
BEGIN:VEVENT
DTSTART:20171119T010000Z
DTEND:20171119T040000Z
X-MICROSOFT-CDO-ALLDAYEVENT:FALSE
SUMMARY:iTheatre presents The Border Zone: Tejano Myths and Legends
DESCRIPTION:The Border Zone - Tejano Myths and Legends was inspired by the thought provoking 1960'S television show The Twilight Zone. The Border Zone\, Tejano Myths and Legends is a sometimes funny and frighting look at the stories told to us as children. This original show will focus on retelling the tales that kept us up at night. These Mexican / Tejano stories have been told by grandparents\, parents tias and tios to children for hundreds of years. The show will highlight La Llorona (The Weeping Woman)\, La Lechuza (The Witch Owl)\, Los Duendes (The Gremlins) and The Deadly Dance at Boccacio 2000.
X-ALT-DESC;FMTTYPE=text/html:<span data-mce-style="font-size: small\;" style="font-size: small\;"><span data-mce-style="color: #2a2a2a\;" style="color: #2a2a2a\;"><em><strong>The Border Zone - Tejano Myths and Legends </strong></em>was inspired by the thought provoking 1960&#39\;S television show <strong>The Twilight Zone.</strong> The Border Zone\, Tejano Myths and Legends is a sometimes funny and frighting look at the stories told to us as children. This original show will focus on retelling the tales that kept us up at night. These Mexican / Tejano stories have been told by grandparents\, parents tias and tios to children for hundreds of years. The show will highlight La Llorona (The Weeping Woman)\, La Lechuza (The Witch Owl)\, Los Duendes (The Gremlins) and The Deadly Dance at Boccacio 2000.</span></span>
LOCATION:Tower Theatre 120 S. Kansas
UID:e.1244.14436
SEQUENCE:3
DTSTAMP:20260421T172543Z
URL:https://business.weslaco.com/events/details/itheatre-presents-the-border-zone-tejano-myths-and-legends-11-18-2017-14436
END:VEVENT

END:VCALENDAR
