BEGIN:VCALENDAR
VERSION:2.0
PRODID:-//ChamberMaster//Event Calendar 2.0//EN
METHOD:PUBLISH
X-PUBLISHED-TTL:P3D
REFRESH-INTERVAL:P3D
CALSCALE:GREGORIAN
BEGIN:VEVENT
DTSTART:20180210T010000Z
DTEND:20180210T030000Z
X-MICROSOFT-CDO-ALLDAYEVENT:FALSE
SUMMARY:iTheatre & WHS Drama present The Election - a comedy
DESCRIPTION:The Election is a hilarious comedy set in an average high school. After an embattled student body president resigns in disgrace\, Mark\, an average student\, figures he can cruise to victory in the special election. After all\, his nerdy opponent wants to eliminate the football program. But when a mysterious Super PAC gives her an unlimited budget\, things turn very ugly. This timely political satire takes on everything that's wrong in politics. Mudslinging\, Debates and Super PACs oh my!
X-ALT-DESC;FMTTYPE=text/html:<span class="_4n-j _3cht fsl" data-testid="event-permalink-details">The Election is a hilarious comedy set in an average high school. After an embattled student body president resigns in disgrace\, Mark\, an average student\, figures he can cruise to victory in the special election. After all\, his nerdy opponent wants to eliminate the football program. But when a mysterious Super PAC gives her an unlimited budget\, things turn very ugly. This timely political satire takes on everything that&#39\;s wrong in politics. Mudslinging\, Debates and Super PACs oh my!</span>
LOCATION:Tower Theater 120 S. Kansas Weslaco
UID:e.1244.14538
SEQUENCE:3
DTSTAMP:20260421T123736Z
URL:https://business.weslaco.com/events/details/itheatre-whs-drama-present-the-election-a-comedy-14538
END:VEVENT

END:VCALENDAR
