BEGIN:VCALENDAR
VERSION:2.0
PRODID:-//ChamberMaster//Event Calendar 2.0//EN
METHOD:PUBLISH
X-PUBLISHED-TTL:P3D
REFRESH-INTERVAL:P3D
CALSCALE:GREGORIAN
BEGIN:VEVENT
DTSTART:20131212T140000Z
DTEND:20131212T150000Z
X-MICROSOFT-CDO-ALLDAYEVENT:FALSE
SUMMARY:Jingle Bell Walk at the Valley Nature Center
DESCRIPTION:Join the Valley Nature Center for a Jingle Bell Walk in our nature park!! Followed by a light breakfast all for just $1.00 per person!
X-ALT-DESC;FMTTYPE=text/html:Join the Valley Nature Center for a&nbsp\;Jingle Bell Walk in our nature park!!&nbsp\;Followed by a light breakfast&nbsp\;all for just $1.00 per person!
LOCATION:301 South Border Ave. Weslaco Tx 78596
UID:e.1244.4808
SEQUENCE:3
DTSTAMP:20260425T005553Z
URL:https://business.weslaco.com/events/details/jingle-bell-walk-at-the-valley-nature-center-12-12-2013-4808
END:VEVENT

END:VCALENDAR
