BEGIN:VCALENDAR
VERSION:2.0
PRODID:-//ChamberMaster//Event Calendar 2.0//EN
METHOD:PUBLISH
X-PUBLISHED-TTL:P3D
REFRESH-INTERVAL:P3D
CALSCALE:GREGORIAN
BEGIN:VEVENT
DTSTART:20191205T230000Z
DTEND:20191206T030000Z
X-MICROSOFT-CDO-ALLDAYEVENT:FALSE
SUMMARY:Jingle & Mingle at Valley Nature Center
DESCRIPTION:Festive fun\, food and shopping!
X-ALT-DESC;FMTTYPE=text/html:Festive fun\, food and shopping!
LOCATION:Valley Nature Center 301 S. Border
UID:e.1244.18839
SEQUENCE:3
DTSTAMP:20260419T234205Z
URL:https://business.weslaco.com/events/details/jingle-mingle-at-valley-nature-center-18839
END:VEVENT

END:VCALENDAR
