BEGIN:VCALENDAR
VERSION:2.0
PRODID:-//ChamberMaster//Event Calendar 2.0//EN
METHOD:PUBLISH
X-PUBLISHED-TTL:P3D
REFRESH-INTERVAL:P3D
CALSCALE:GREGORIAN
BEGIN:VEVENT
DTSTART:20200328T140000Z
DTEND:20200328T153000Z
X-MICROSOFT-CDO-ALLDAYEVENT:FALSE
SUMMARY:Junior Ranger Hike at Estero Llano Grande
DESCRIPTION:Nature hike for kids with a park ranger - ages 12 and under!
X-ALT-DESC;FMTTYPE=text/html:Nature hike for kids with a park ranger - ages 12 and under!
LOCATION:
UID:e.1244.19024
SEQUENCE:3
DTSTAMP:20260419T203357Z
URL:https://business.weslaco.com/events/details/junior-ranger-hike-at-estero-llano-grande-03-28-2020-19024
END:VEVENT

END:VCALENDAR
