BEGIN:VCALENDAR
VERSION:2.0
PRODID:-//ChamberMaster//Event Calendar 2.0//EN
METHOD:PUBLISH
X-PUBLISHED-TTL:P3D
REFRESH-INTERVAL:P3D
CALSCALE:GREGORIAN
BEGIN:VEVENT
DTSTART:20150102T144500Z
DTEND:20150102T160000Z
X-MICROSOFT-CDO-ALLDAYEVENT:FALSE
SUMMARY:Kanaan Wellness Clinic Grand Opening
DESCRIPTION:
X-ALT-DESC;FMTTYPE=text/html:
LOCATION:1019 S. Utah Ave. Weslaco\, TX
UID:e.1244.6016
SEQUENCE:3
DTSTAMP:20260424T002957Z
URL:https://business.weslaco.com/events/details/kanaan-wellness-clinic-grand-opening-01-02-2015-6016
END:VEVENT

END:VCALENDAR
