BEGIN:VCALENDAR
VERSION:2.0
PRODID:-//ChamberMaster//Event Calendar 2.0//EN
METHOD:PUBLISH
X-PUBLISHED-TTL:P3D
REFRESH-INTERVAL:P3D
CALSCALE:GREGORIAN
BEGIN:VEVENT
DTSTART:20161221T220000Z
DTEND:20161222T000000Z
X-MICROSOFT-CDO-ALLDAYEVENT:FALSE
SUMMARY:Karaoke Night at Llando Grande Lake Park Resort
DESCRIPTION:Enjoy all-you-can-eat buffet for $8.75\, coffee or iced tea included.
X-ALT-DESC;FMTTYPE=text/html:Enjoy all-you-can-eat buffet for $8.75\, coffee or iced tea included.
LOCATION:Grade Cafe (inside the Hynes Event Center) Llano Grande Lake Park Resort 2215 E. West Blvd. Mercedes\, TX 78570
UID:e.1244.11452
SEQUENCE:3
DTSTAMP:20260422T115832Z
URL:https://business.weslaco.com/events/details/karaoke-night-at-llando-grande-lake-park-resort-12-21-2016-11452
END:VEVENT

END:VCALENDAR
