BEGIN:VCALENDAR
VERSION:2.0
PRODID:-//ChamberMaster//Event Calendar 2.0//EN
METHOD:PUBLISH
X-PUBLISHED-TTL:P3D
REFRESH-INTERVAL:P3D
CALSCALE:GREGORIAN
BEGIN:VEVENT
DTSTART:20150224T230000Z
DTEND:20150225T030000Z
X-MICROSOFT-CDO-ALLDAYEVENT:FALSE
SUMMARY:Kelly Miller Circus
DESCRIPTION:Sponsored by Weslaco Parks and Rec
X-ALT-DESC;FMTTYPE=text/html:&nbsp\; &nbsp\;Sponsored by Weslaco Parks and Rec
LOCATION:Harlon Block Sports Complex Westgate and 18th
UID:e.1244.6052
SEQUENCE:3
DTSTAMP:20260423T224516Z
URL:https://business.weslaco.com/events/details/kelly-miller-circus-02-24-2015-6052
END:VEVENT

END:VCALENDAR
