BEGIN:VCALENDAR
VERSION:2.0
PRODID:-//ChamberMaster//Event Calendar 2.0//EN
METHOD:PUBLISH
X-PUBLISHED-TTL:P3D
REFRESH-INTERVAL:P3D
CALSCALE:GREGORIAN
BEGIN:VEVENT
DTSTART:20150811T160000Z
DTEND:20150811T190000Z
X-MICROSOFT-CDO-ALLDAYEVENT:FALSE
SUMMARY:Kendra Scott Jewelry Trunk Show
DESCRIPTION:Join us for a Kendra Scott Jewelry Trunk Show to benefit the Boys & Girls Club of Weslaco.  20% of all sales will be donated to the BGCW. Light lunch will be served.
X-ALT-DESC;FMTTYPE=text/html:Join us for a Kendra Scott Jewelry Trunk Show to benefit the Boys &amp\; Girls Club of Weslaco. &nbsp\;20% of all sales will be donated to the BGCW. Light lunch will be served.
LOCATION:Business Visitor and Event Center 275 S. Kansas
UID:e.1244.6708
SEQUENCE:3
DTSTAMP:20260423T131630Z
URL:https://business.weslaco.com/events/details/kendra-scott-jewelry-trunk-show-08-11-2015-6708
END:VEVENT

END:VCALENDAR
