BEGIN:VCALENDAR
VERSION:2.0
PRODID:-//ChamberMaster//Event Calendar 2.0//EN
METHOD:PUBLISH
X-PUBLISHED-TTL:P3D
REFRESH-INTERVAL:P3D
CALSCALE:GREGORIAN
BEGIN:VEVENT
DTSTART:20151130T220000Z
DTEND:20151130T230000Z
X-MICROSOFT-CDO-ALLDAYEVENT:FALSE
SUMMARY:Keno Cafe Grand Re-Opening and Ribbon Cutting
DESCRIPTION:
X-ALT-DESC;FMTTYPE=text/html:
LOCATION:253 S. Texas Blvd. Weslaco\, TX 78596
UID:e.1244.9055
SEQUENCE:3
DTSTAMP:20260423T084738Z
URL:https://business.weslaco.com/events/details/keno-cafe-grand-re-opening-and-ribbon-cutting-11-30-2015-9055
END:VEVENT

END:VCALENDAR
