BEGIN:VCALENDAR
VERSION:2.0
PRODID:-//ChamberMaster//Event Calendar 2.0//EN
METHOD:PUBLISH
X-PUBLISHED-TTL:P3D
REFRESH-INTERVAL:P3D
CALSCALE:GREGORIAN
BEGIN:VEVENT
DTSTART:20180224T200000Z
DTEND:20180224T211500Z
X-MICROSOFT-CDO-ALLDAYEVENT:FALSE
SUMMARY:Kids Crafts with Connie at Frontera Audubon
DESCRIPTION:Kids crafts with Connie\n\nFor Ages 4 - 7\n\n\n\nCreativity can be messy\, but it is as natural as Sunshine\, and as vital as nourishment. In this craft class Art teacher Connie Lopez offers a step-by-step arts and craft lesson that helps inspire the artist in every child.\n\n\n\nPre-registration is required.\n\nTo register contact Frontera Audubon:\n\nPhone | (956) 968-3275\n\nEmail | FronteraNature@Gmail.com\n\nor send a Facebook message!\n\n\n\nInclude the name and age of your child\, along with your contact information.
X-ALT-DESC;FMTTYPE=text/html:<span class="_4n-j _3cht fsl" data-testid="event-permalink-details">Kids crafts with Connie<br />\nFor Ages 4 - 7<br />\n<br />\nCreativity can be messy\, but it is as natural as Sunshine\, and as vital as nourishment. In this craft class Art teacher Connie Lopez offers a step-by-step arts and craft lesson that helps inspire the artist in every child.<br />\n<br />\nPre-registration is required.<br />\nTo register contact Frontera Audubon:<br />\nPhone | (956) 968-3275<br />\nEmail | FronteraNature@Gmail.com<br />\nor send a Facebook message!<br />\n<br />\nInclude the name and age of your child\, along with your contact information.</span>
LOCATION:Frontera Audubon 1101 S. Texas
UID:e.1244.15751
SEQUENCE:3
DTSTAMP:20260421T125419Z
URL:https://business.weslaco.com/events/details/kids-crafts-with-connie-at-frontera-audubon-15751
END:VEVENT

END:VCALENDAR
