BEGIN:VCALENDAR
VERSION:2.0
PRODID:-//ChamberMaster//Event Calendar 2.0//EN
METHOD:PUBLISH
X-PUBLISHED-TTL:P3D
REFRESH-INTERVAL:P3D
CALSCALE:GREGORIAN
BEGIN:VEVENT
DTSTART:20170429T220000Z
DTEND:20170430T010000Z
X-MICROSOFT-CDO-ALLDAYEVENT:FALSE
SUMMARY:Kids Nature Crafts at Frontera
DESCRIPTION:Jessica Tanguma leads this creative nature based craft class for children. Let their imaginations go wild while learning a thing or two about the nature that surrounds them. Creativity can be messy\, but it is as natural as sunshine\, and as vital as nourishment. For ages 4 to 7 yrs.
X-ALT-DESC;FMTTYPE=text/html:Jessica Tanguma leads this creative nature based craft class for children. Let their imaginations go wild while learning a thing or two about the nature that surrounds them. Creativity can be messy\, but it is as natural as sunshine\, and as vital as nourishment. For ages 4 to 7 yrs.<br />\n&nbsp\;
LOCATION:Frontera Audubon 1101 S. Texas\, Weslaco
UID:e.1244.11964
SEQUENCE:3
DTSTAMP:20260422T052934Z
URL:https://business.weslaco.com/events/details/kids-nature-crafts-at-frontera-11964
END:VEVENT

END:VCALENDAR
