BEGIN:VCALENDAR
VERSION:2.0
PRODID:-//ChamberMaster//Event Calendar 2.0//EN
METHOD:PUBLISH
X-PUBLISHED-TTL:P3D
REFRESH-INTERVAL:P3D
CALSCALE:GREGORIAN
BEGIN:VEVENT
DTSTART:20170715T150000Z
DTEND:20170715T161500Z
X-MICROSOFT-CDO-ALLDAYEVENT:FALSE
SUMMARY:Kids Painting Class at Frontera Audubon
DESCRIPTION:During the summer's peak\, all of the colors are shining bright. We live in a color filled world. Flowers shine in beautiful rainbow colors. Birds and butterflies and nature's many creatures are clothed in their colorful best. During this session we will see a painted story and paint two rainbow pictures of shining nature.\n\n\n\nWhen: Saturday\, July 15th\n\nTime: 10 AM\n\nPrice: $10\n\n*For ages 6-10 only*\n\n**Space is limited\, must pre-register!**\n\n\n\nTo register please send an email to FronteraNature@gmail.com with your child(rens) name\, age & your contact info.
X-ALT-DESC;FMTTYPE=text/html:<span class="_4n-j _3cht fsl" data-testid="event-permalink-details">During the summer&#39\;s peak\, all of the colors are shining bright. We live in a color filled world. Flowers shine in beautiful rainbow colors. Birds and butterflies and nature&#39\;s many creatures are clothed in their colorful best. During this session we will see a painted story and paint two rainbow pictures of shining nature.<br />\n<br />\nWhen: Saturday\, July 15th<br />\nTime: 10 AM<br />\nPrice: $10<br />\n*For ages 6-10 only*<br />\n**Space is limited\, must pre-register!**<br />\n<br />\nTo register please send an email to FronteraNature@gmail.com with your child(rens) name\, age &amp\; your contact info.</span>
LOCATION:1101 S. Texas Blvd. Weslaco\, TX
UID:e.1244.12762
SEQUENCE:3
DTSTAMP:20260421T235031Z
URL:https://business.weslaco.com/events/details/kids-painting-class-at-frontera-audubon-12762
END:VEVENT

END:VCALENDAR
