BEGIN:VCALENDAR
VERSION:2.0
PRODID:-//ChamberMaster//Event Calendar 2.0//EN
METHOD:PUBLISH
X-PUBLISHED-TTL:P3D
REFRESH-INTERVAL:P3D
CALSCALE:GREGORIAN
BEGIN:VEVENT
DTSTART:20150723T143000Z
DTEND:20150723T203000Z
X-MICROSOFT-CDO-ALLDAYEVENT:FALSE
SUMMARY:Knapp Community Care Foundation Funding Forum
DESCRIPTION:Health is not merely the absence of disease or infirmity.  A healthy community is committed to achieving a state of optimal physical\, mental\, and social well-being for each of its residents.\n\n                         \n\nCome Learn About:\n\n     Knapp Community Care Foundation\, Inc.\n\n     Funding Project and Program Areas\; and\n\n     How to Apply for a Grant
X-ALT-DESC;FMTTYPE=text/html:Health is not merely the absence of disease or infirmity.&nbsp\; A healthy community is committed to achieving a state of optimal physical\, mental\, and social well-being for each of its residents.<br />\n&nbsp\;&nbsp\;&nbsp\;&nbsp\;&nbsp\;&nbsp\;&nbsp\;&nbsp\;&nbsp\;&nbsp\;&nbsp\;&nbsp\;&nbsp\;&nbsp\;&nbsp\;&nbsp\;&nbsp\;&nbsp\;&nbsp\;&nbsp\;&nbsp\;&nbsp\;&nbsp\;&nbsp\;&nbsp\;<br />\nCome Learn About:<br />\n&bull\;&nbsp\;&nbsp\;&nbsp\; Knapp Community Care Foundation\, Inc.<br />\n&bull\;&nbsp\;&nbsp\;&nbsp\; Funding Project and Program Areas\; and<br />\n&bull\;&nbsp\;&nbsp\;&nbsp\; How to Apply for a Grant
LOCATION:Knapp Conference Center Conference Rooms 2 & 5
UID:e.1244.6700
SEQUENCE:3
DTSTAMP:20260423T162459Z
URL:https://business.weslaco.com/events/details/knapp-community-care-foundation-funding-forum-07-23-2015-6700
END:VEVENT

END:VCALENDAR
