BEGIN:VCALENDAR
VERSION:2.0
PRODID:-//ChamberMaster//Event Calendar 2.0//EN
METHOD:PUBLISH
X-PUBLISHED-TTL:P3D
REFRESH-INTERVAL:P3D
CALSCALE:GREGORIAN
BEGIN:VEVENT
DTSTART:20181212T233000Z
DTEND:20181213T010000Z
X-MICROSOFT-CDO-ALLDAYEVENT:FALSE
SUMMARY:Knapp Community Care Foundation Holiday Mixer
DESCRIPTION:The Weslaco Chamber of Commerce and  Knapp Community Care Foundation will be hosting a Business After Hours Holiday Mixer on Wednesday\, December 12 at 5:30 pm.  The mixer will take place at the Knapp Medical Conference Center. Stop by to meet the staff\, learn more about the foundation and do some networking! Light refreshments will be served.  The Knapp Medical Conference Center is located on the west side of the hospital\, located at 1401 E. Eighth Street in Weslaco. For more information\, contact the Weslaco Chamber at 956-968-2102.
X-ALT-DESC;FMTTYPE=text/html:The Weslaco Chamber of Commerce and &nbsp\;Knapp Community Care Foundation will be hosting a Business After Hours Holiday Mixer on Wednesday\, December 12 at 5:30 pm.&nbsp\; The mixer will take place at the Knapp Medical Conference Center. Stop by to meet the staff\, learn more about the foundation and do some networking! Light refreshments will be served.&nbsp\; The Knapp Medical Conference Center is located on the west side of the hospital\, located at 1401 E. Eighth Street in Weslaco. For more information\, contact the Weslaco Chamber at 956-968-2102.
LOCATION:Knapp Medical Conference Center 1401 E. Eighth Street\, Weslaco
UID:e.1244.17031
SEQUENCE:3
DTSTAMP:20260420T194924Z
URL:https://business.weslaco.com/events/details/knapp-community-care-foundation-holiday-mixer-17031
END:VEVENT

END:VCALENDAR
