BEGIN:VCALENDAR
VERSION:2.0
PRODID:-//ChamberMaster//Event Calendar 2.0//EN
METHOD:PUBLISH
X-PUBLISHED-TTL:P3D
REFRESH-INTERVAL:P3D
CALSCALE:GREGORIAN
BEGIN:VEVENT
DTSTART:20190404T223000Z
DTEND:20190405T003000Z
X-MICROSOFT-CDO-ALLDAYEVENT:FALSE
SUMMARY:Knapp Community Care Foundation Spring Fling
DESCRIPTION:Knapp Community Care Foundation Spring Fling\, featuring the Community Grant Awards. Enjoy refreshments\, appetizers and networking!\n\nClick here to RSVP
X-ALT-DESC;FMTTYPE=text/html:<p>Knapp Community Care Foundation Spring Fling\, featuring the Community Grant Awards. Enjoy refreshments\, appetizers and networking!</p>\n\n<p><a href="https://www.communitycare.today/2019-community-grant-awards/">Click here to RSVP</a></p>\n
LOCATION:Knapp Conference Center
UID:e.1244.18047
SEQUENCE:3
DTSTAMP:20260420T144115Z
URL:https://business.weslaco.com/events/details/knapp-community-care-foundation-spring-fling-18047
END:VEVENT

END:VCALENDAR
