BEGIN:VCALENDAR
VERSION:2.0
PRODID:-//ChamberMaster//Event Calendar 2.0//EN
METHOD:PUBLISH
X-PUBLISHED-TTL:P3D
REFRESH-INTERVAL:P3D
CALSCALE:GREGORIAN
BEGIN:VEVENT
DTSTART:20150929T163000Z
DTEND:20150929T203000Z
X-MICROSOFT-CDO-ALLDAYEVENT:FALSE
SUMMARY:Knapp Medical Center Blood Drive
DESCRIPTION:
X-ALT-DESC;FMTTYPE=text/html:
LOCATION:Knapp Medical Center\, 1401 E. Eighth Street\, Weslaco TX Conference Room C
UID:e.1244.8732
SEQUENCE:3
DTSTAMP:20260423T113317Z
URL:https://business.weslaco.com/events/details/knapp-medical-center-blood-drive-09-29-2015-8732
END:VEVENT

END:VCALENDAR
