BEGIN:VCALENDAR
VERSION:2.0
PRODID:-//ChamberMaster//Event Calendar 2.0//EN
METHOD:PUBLISH
X-PUBLISHED-TTL:P3D
REFRESH-INTERVAL:P3D
CALSCALE:GREGORIAN
BEGIN:VEVENT
DTSTART:20170720T140000Z
DTEND:20170720T191500Z
X-MICROSOFT-CDO-ALLDAYEVENT:FALSE
SUMMARY:Knapp Medical Center Blood Drive
DESCRIPTION:Be a hero! Patients who receive blood transfusions often can do so because of generous blood donors. Presenting donors receive a wellness checkup and t-shirt\; a safe and secure donation experience\; skilled care and access to convenient online scheduling. Also\, if you schedule your donation\, receive a FREE Whataburger coupon!
X-ALT-DESC;FMTTYPE=text/html:Be a hero! Patients who receive blood transfusions often can do so because of generous blood donors. Presenting donors receive a wellness checkup and t-shirt\; a safe and secure donation experience\; skilled care and access to convenient online scheduling. Also\, if you schedule your donation\, receive a FREE Whataburger coupon!
LOCATION:Knapp Medical Conference Center Room C
UID:e.1244.12775
SEQUENCE:3
DTSTAMP:20260421T235302Z
URL:https://business.weslaco.com/events/details/knapp-medical-center-blood-drive-12775
END:VEVENT

END:VCALENDAR
