BEGIN:VCALENDAR
VERSION:2.0
PRODID:-//ChamberMaster//Event Calendar 2.0//EN
METHOD:PUBLISH
X-PUBLISHED-TTL:P3D
REFRESH-INTERVAL:P3D
CALSCALE:GREGORIAN
BEGIN:VEVENT
DTSTART:20190801T140000Z
DTEND:20190801T190000Z
X-MICROSOFT-CDO-ALLDAYEVENT:FALSE
SUMMARY:Knapp Medical Center Blood Drive
DESCRIPTION:Knapp Medical Center is teaming up with the South Texas Blood & Tissue Center to bring you an exciting opportunity for to make a difference in the lives of patients. There will be a blood drive on Thursday\, August 1 from 9am to 2pm in Conference Room C. All presenting donors will receive a FREE H-E-B gift card! Schedule your appointment today at http://bit.ly/30AOmPG.
X-ALT-DESC;FMTTYPE=text/html:Knapp Medical Center is teaming up with the South Texas Blood &amp\; Tissue Center to bring you an exciting opportunity for to make a difference in the lives of patients. There will be a blood drive on Thursday\, August 1 from 9am to 2pm in Conference Room C. All presenting donors will receive a FREE H-E-B gift card! Schedule your appointment today at<a href="http://http://bit.ly/30AOmPG."> </a><a href="http://bit.ly/30AOmPG.">http://bit.ly/30AOmPG.</a>
LOCATION:Knapp Conference Center
UID:e.1244.18716
SEQUENCE:3
DTSTAMP:20260420T062633Z
URL:https://business.weslaco.com/events/details/knapp-medical-center-blood-drive-18716
END:VEVENT

END:VCALENDAR
