BEGIN:VCALENDAR
VERSION:2.0
PRODID:-//ChamberMaster//Event Calendar 2.0//EN
METHOD:PUBLISH
X-PUBLISHED-TTL:P3D
REFRESH-INTERVAL:P3D
CALSCALE:GREGORIAN
BEGIN:VEVENT
DTSTART:20191119T183000Z
DTEND:20191119T193000Z
X-MICROSOFT-CDO-ALLDAYEVENT:FALSE
SUMMARY:Knapp Medical Center Doc Talk Lecture
DESCRIPTION:"Prostate Cancer Awareness" presented by Dr. James Sander\, Urologist. \n\nRefreshments and drawings for door prizes including restaurant gift certificates.
X-ALT-DESC;FMTTYPE=text/html:&quot\;Prostate Cancer Awareness&quot\; presented by Dr. James Sander\, Urologist.&nbsp\;<br />\nRefreshments and drawings for door prizes including restaurant gift certificates.&nbsp\;
LOCATION:Knapp Conference Center
UID:e.1244.18821
SEQUENCE:3
DTSTAMP:20260420T013452Z
URL:https://business.weslaco.com/events/details/knapp-medical-center-doc-talk-lecture-18821
END:VEVENT

END:VCALENDAR
