BEGIN:VCALENDAR
VERSION:2.0
PRODID:-//ChamberMaster//Event Calendar 2.0//EN
METHOD:PUBLISH
X-PUBLISHED-TTL:P3D
REFRESH-INTERVAL:P3D
CALSCALE:GREGORIAN
BEGIN:VEVENT
DTSTART:20151210T180000Z
DTEND:20151210T190000Z
X-MICROSOFT-CDO-ALLDAYEVENT:FALSE
SUMMARY:Knapp Medical Center Family Residency Program Groundbreaking
DESCRIPTION:
X-ALT-DESC;FMTTYPE=text/html:
LOCATION:South frontage rd\, Expressway 83\, across STISD Mercedes\, TX
UID:e.1244.9069
SEQUENCE:3
DTSTAMP:20260423T070144Z
URL:https://business.weslaco.com/events/details/knapp-medical-center-family-residency-program-groundbreaking-12-10-2015-9069
END:VEVENT

END:VCALENDAR
