BEGIN:VCALENDAR
VERSION:2.0
PRODID:-//ChamberMaster//Event Calendar 2.0//EN
METHOD:PUBLISH
X-PUBLISHED-TTL:P3D
REFRESH-INTERVAL:P3D
CALSCALE:GREGORIAN
BEGIN:VEVENT
DTSTART:20170216T230000Z
DTEND:20170217T010000Z
X-MICROSOFT-CDO-ALLDAYEVENT:FALSE
SUMMARY:Knapp Medical Center Physician Meet n Greet
DESCRIPTION:Knapp Medical Center invites you to a reception for Dr. Nicole Grigg-Gutierrez\, Gastroenterologist.  Enjoy wine and hors d'oeuvres.
X-ALT-DESC;FMTTYPE=text/html:Knapp Medical Center invites you to a reception for Dr. Nicole Grigg-Gutierrez\, Gastroenterologist.&nbsp\; Enjoy wine and hors d&#39\;oeuvres.
LOCATION:Knapp Medical Conference Center 700 Knapp Medical Blvd\, Weslaco
UID:e.1244.11527
SEQUENCE:3
DTSTAMP:20260422T085948Z
URL:https://business.weslaco.com/events/details/knapp-medical-center-physician-meet-n-greet-11527
END:VEVENT

END:VCALENDAR
