BEGIN:VCALENDAR
VERSION:2.0
PRODID:-//ChamberMaster//Event Calendar 2.0//EN
METHOD:PUBLISH
X-PUBLISHED-TTL:P3D
REFRESH-INTERVAL:P3D
CALSCALE:GREGORIAN
BEGIN:VEVENT
DTSTART:20160115T150000Z
DTEND:20160115T170000Z
X-MICROSOFT-CDO-ALLDAYEVENT:FALSE
SUMMARY:Knapp Medical Center Senior Health Fair
DESCRIPTION:Free and open to all seniors!  Health screenings\, health education\, refreshments\, and giveaways.  \n\nLight refreshments will be available and attendees can register to win an Amazon Kindle Fire tablet.
X-ALT-DESC;FMTTYPE=text/html:<span style="font-size:12px\;"><span style="font-family: arial"><span style="color: black">Free and open to all seniors!&nbsp\; Health screenings\, health education\, refreshments\, and giveaways. &nbsp\;</span></span><br />\n<span style="font-family:arial\;">Light refreshments will be available and attendees can register to win an Amazon Kindle Fire tablet.</span></span>
LOCATION:Knapp Conference Center 1801 E. Eighth St.
UID:e.1244.9087
SEQUENCE:3
DTSTAMP:20260423T054328Z
URL:https://business.weslaco.com/events/details/knapp-medical-center-senior-health-fair-01-15-2016-9087
END:VEVENT

END:VCALENDAR
